BEGIN:VCALENDAR
VERSION:2.0
PRODID:-//OmniMagnetCalendar//EN
BEGIN:VEVENT
DTSTAMP:20190625T195740Z
STATUS:CONFIRMED
UID:hcquincy.clubs.harvard.edu124
DTSTART:20220516T213000Z
DTEND:20220516T233000Z
LOCATION:The Woodward School for Girls, 1102 Hancock Street, Quincy, MA, 02169, USA,
SUMMARY:Class of 2026 Admitted Students Reception
DESCRIPTION:Monday, May 16 at 5:30pm at the Woodward School for Girls in Quincy
BEGIN:VALARM
TRIGGER:-PT15M
ACTION:DISPLAY
END:VALARM
TRANSP:OPAQUE
END:VEVENT
END:VCALENDAR
