BEGIN:VCALENDAR
VERSION:2.0
PRODID:-//OmniMagnetCalendar//EN
BEGIN:VEVENT
DTSTAMP:20190625T195740Z
STATUS:CONFIRMED
UID:hcquincy.clubs.harvard.edu108
DTSTART:20220131T223000Z
DTEND:20220131T233000Z
LOCATION:Virtual, 15 Cottage Avenue, Quincy, MA, 02169,
SUMMARY:Annual Meeting
DESCRIPTION:
BEGIN:VALARM
TRIGGER:-PT15M
ACTION:DISPLAY
END:VALARM
TRANSP:OPAQUE
END:VEVENT
END:VCALENDAR
